BEGIN:VCALENDAR
VERSION:2.0
PRODID:-//WP EVENT Manager Ical//NONSGML Events//EN
CALSCALE:GREGORIAN
BEGIN:VTIMEZONE
TZID:Asia/Kolkata
BEGIN:STANDARD
DTSTART:19700101T000000
TZOFFSETFROM:+0530
TZOFFSETTO:+0530
END:STANDARD
END:VTIMEZONE
BEGIN:VEVENT
UID:69e7351bdaf77@verkehrs-institut.de
DTSTAMP:20260421T082811Z
DTSTART;TZID=Asia/Kolkata:20261214T000000
DTEND;TZID=Asia/Kolkata:20261218T000000
LOCATION:Bielefeld
SUMMARY:Seminarleiter Einweisung ASF
DESCRIPTION:Wer Aufbauseminare (ASF) durchführen möchte, benötigt eine spezielle Qualifikation. Unsere&nbsp;Seminarleiter-Einweisung&nbsp;vermittelt das notwendige Fachwissen und pädagogische Know-how, um Fahrschülerinnen und Fahrschüler in besonderen Aufbauseminaren professionell zu begleiten.Der Lehrgang besteht aus&nbsp;vier Tagen Grundkurs Seminarleiter&nbsp;und&nbsp;vier Tagen Programmkurs ASF.🔹&nbsp;TeilnahmevoraussetzungenMindestens&nbsp;drei Jahre hauptberufliche Tätigkeit&nbsp;in Theorie und Praxis der Klassen&nbsp;B/BE und A&nbsp;innerhalb der letzten fünf Jahre.🎓 Der&nbsp;Programmkurs ASF&nbsp;baut auf den Grundkurs Seminarleiter auf und vertieft das Wissen rund um die&nbsp;Durchführung von Aufbauseminaren für Fahranfänger (ASF).Im Mittelpunkt stehen die inhaltliche Planung, die Gestaltung der Gruppensitzungen sowie die Reflexion typischer Fahrsituationen und Verhaltensmuster.Ziel ist es, ASF-Seminare fachlich fundiert, methodisch abwechslungsreich und pädagogisch wirksam zu gestalten.☕️&nbsp;Verpflegung &amp; KostenAlle Veranstaltungen beinhalten einen Imbiss.💶&nbsp;Kosten:&nbsp;je Kurs 765,00 € · 735,00 € für BVF-Mitglieder👉&nbsp;Jetzt anmelden und Qualifikation als ASF-Seminarleiter abschließen!Vertiefen Sie Ihr Wissen, erweitern Sie Ihre Handlungskompetenz und bereiten Sie sich optimal auf Ihre Tätigkeit als Seminarleiterin oder Seminarleiter vor.
END:VEVENT
END:VCALENDAR